BEGIN:VCALENDAR
VERSION:2.0
PRODID:-//Dorpshuis de Wijk - ECPv6.2.9//NONSGML v1.0//EN
CALSCALE:GREGORIAN
METHOD:PUBLISH
X-ORIGINAL-URL:https://dorpshuisdewijk.nl
X-WR-CALDESC:Evenementen voor Dorpshuis de Wijk
REFRESH-INTERVAL;VALUE=DURATION:PT1H
X-Robots-Tag:noindex
X-PUBLISHED-TTL:PT1H
BEGIN:VTIMEZONE
TZID:Europe/Amsterdam
BEGIN:DAYLIGHT
TZOFFSETFROM:+0100
TZOFFSETTO:+0200
TZNAME:CEST
DTSTART:20250330T010000
END:DAYLIGHT
BEGIN:STANDARD
TZOFFSETFROM:+0200
TZOFFSETTO:+0100
TZNAME:CET
DTSTART:20251026T010000
END:STANDARD
END:VTIMEZONE
BEGIN:VEVENT
DTSTART;TZID=Europe/Amsterdam:20250125T200000
DTEND;TZID=Europe/Amsterdam:20250125T200000
DTSTAMP:20260420T234243
CREATED:20250121T190542Z
LAST-MODIFIED:20250121T190542Z
UID:3695-1737835200-1737835200@dorpshuisdewijk.nl
SUMMARY:De speeltuin jamsessie
DESCRIPTION:
URL:https://dorpshuisdewijk.nl/event/de-speeltuin-jamsessie/
LOCATION:Grote zaal
CATEGORIES:Evenement
ATTACH;FMTTYPE=image/jpeg:https://dorpshuisdewijk.nl/wp-content/uploads/2025/01/speeltuin-25-1-2025.jpg
ORGANIZER;CN="Smaakmakersfestival":MAILTO:muziek@smaakmakersfestival.nl
END:VEVENT
END:VCALENDAR