BEGIN:VCALENDAR
VERSION:2.0
PRODID:-//Dorpshuis de Wijk - ECPv6.2.9//NONSGML v1.0//EN
CALSCALE:GREGORIAN
METHOD:PUBLISH
X-ORIGINAL-URL:https://dorpshuisdewijk.nl
X-WR-CALDESC:Evenementen voor Dorpshuis de Wijk
REFRESH-INTERVAL;VALUE=DURATION:PT1H
X-Robots-Tag:noindex
X-PUBLISHED-TTL:PT1H
BEGIN:VTIMEZONE
TZID:Europe/Amsterdam
BEGIN:DAYLIGHT
TZOFFSETFROM:+0100
TZOFFSETTO:+0200
TZNAME:CEST
DTSTART:20250330T010000
END:DAYLIGHT
BEGIN:STANDARD
TZOFFSETFROM:+0200
TZOFFSETTO:+0100
TZNAME:CET
DTSTART:20251026T010000
END:STANDARD
END:VTIMEZONE
BEGIN:VEVENT
DTSTART;TZID=Europe/Amsterdam:20250510T160000
DTEND;TZID=Europe/Amsterdam:20250510T233000
DTSTAMP:20260420T184326
CREATED:20250417T194623Z
LAST-MODIFIED:20250509T174140Z
UID:3794-1746892800-1746919800@dorpshuisdewijk.nl
SUMMARY:Gehaktballen-bak-wedstrijd 10 mei --AFGELAST!!!
DESCRIPTION:Gaat helaas niet door wegens te weinig deelnemers.
URL:https://dorpshuisdewijk.nl/event/gehaktballen-bak-wedstrijd-10-mei/
LOCATION:Ontmoetingsruimte
ATTACH;FMTTYPE=image/jpeg:https://dorpshuisdewijk.nl/wp-content/uploads/2025/04/gehaktballenwedstrijd2025_TV-scherm_dorpshuisdewijk.jpg
ORGANIZER;CN="Dorpshuis de Wijk de Havezate":MAILTO:info@dorpshuisdewijk.nl
END:VEVENT
END:VCALENDAR