BEGIN:VCALENDAR
VERSION:2.0
PRODID:-//Dorpshuis de Wijk - ECPv6.2.9//NONSGML v1.0//EN
CALSCALE:GREGORIAN
METHOD:PUBLISH
X-ORIGINAL-URL:https://dorpshuisdewijk.nl
X-WR-CALDESC:Evenementen voor Dorpshuis de Wijk
REFRESH-INTERVAL;VALUE=DURATION:PT1H
X-Robots-Tag:noindex
X-PUBLISHED-TTL:PT1H
BEGIN:VTIMEZONE
TZID:Europe/Amsterdam
BEGIN:DAYLIGHT
TZOFFSETFROM:+0100
TZOFFSETTO:+0200
TZNAME:CEST
DTSTART:20250330T010000
END:DAYLIGHT
BEGIN:STANDARD
TZOFFSETFROM:+0200
TZOFFSETTO:+0100
TZNAME:CET
DTSTART:20251026T010000
END:STANDARD
END:VTIMEZONE
BEGIN:VEVENT
DTSTART;TZID=Europe/Amsterdam:20250228T200000
DTEND;TZID=Europe/Amsterdam:20250228T200000
DTSTAMP:20260421T011606
CREATED:20250105T142759Z
LAST-MODIFIED:20250105T142759Z
UID:3684-1740772800-1740772800@dorpshuisdewijk.nl
SUMMARY:Spelletjesavond
DESCRIPTION:Spelletjesavond op 28 Februari 2025 in het dorpscafé!Een gezellige spelletjesavond in ons dorpscafé!Neem je eigen (leukste) spellen mee\, zoalsMonopoly\, Risk\, etc) & ga onder het genotvan een drankje de strijd aan!Vanaf 20.00 (gratis)
URL:https://dorpshuisdewijk.nl/event/spelletjesavond/
LOCATION:Ontmoetingsruimte
ATTACH;FMTTYPE=image/jpeg:https://dorpshuisdewijk.nl/wp-content/uploads/2025/01/spelletjesavond-2025.jpg
ORGANIZER;CN="Dorpshuis de Wijk de Havezate":MAILTO:info@dorpshuisdewijk.nl
END:VEVENT
END:VCALENDAR