BEGIN:VCALENDAR
VERSION:2.0
PRODID:-//Dorpshuis de Wijk - ECPv6.2.9//NONSGML v1.0//EN
CALSCALE:GREGORIAN
METHOD:PUBLISH
X-ORIGINAL-URL:https://dorpshuisdewijk.nl
X-WR-CALDESC:Evenementen voor Dorpshuis de Wijk
REFRESH-INTERVAL;VALUE=DURATION:PT1H
X-Robots-Tag:noindex
X-PUBLISHED-TTL:PT1H
BEGIN:VTIMEZONE
TZID:Europe/Amsterdam
BEGIN:DAYLIGHT
TZOFFSETFROM:+0100
TZOFFSETTO:+0200
TZNAME:CEST
DTSTART:20240331T010000
END:DAYLIGHT
BEGIN:STANDARD
TZOFFSETFROM:+0200
TZOFFSETTO:+0100
TZNAME:CET
DTSTART:20241027T010000
END:STANDARD
END:VTIMEZONE
BEGIN:VEVENT
DTSTART;TZID=Europe/Amsterdam:20241116T200000
DTEND;TZID=Europe/Amsterdam:20241116T200000
DTSTAMP:20260421T054621
CREATED:20240905T185456Z
LAST-MODIFIED:20241009T144823Z
UID:3507-1731787200-1731787200@dorpshuisdewijk.nl
SUMMARY:Drenthe plat
DESCRIPTION:Goed nieuws voor alle liefhebbers van de Drentse humor. Vanaf eind dit jaar toert Drenthe Plat weer kriskras door Noord- Nederland met een gloednieuw programma boordevol Drentse humor en liedjes. \nHet gezelschap viert met deze nieuwe tournee het 45-jarig jubileum en dat willen ze weten ook. Kosten nog moeite zijn gespaard om het publiek te verrassen met een heerlijk en onvergetelijk programma\, waarin natuurlijk de gulle lach voorop staat. \nOp zaterdag 16 november 2024 spelen ze in Dorpshuis De Wijk. Kaarten € 15\,00 zijn online te koop bij het Dorpshuis in De Wijk. Website http://dorpshuisdewijk.nl
URL:https://dorpshuisdewijk.nl/event/drenthe-plat/
LOCATION:Grote zaal
ATTACH;FMTTYPE=image/jpeg:https://dorpshuisdewijk.nl/wp-content/uploads/2024/09/Drenthe-Plat.jpg
END:VEVENT
END:VCALENDAR