BEGIN:VCALENDAR
VERSION:2.0
PRODID:-//Dorpshuis de Wijk - ECPv6.2.9//NONSGML v1.0//EN
CALSCALE:GREGORIAN
METHOD:PUBLISH
X-WR-CALNAME:Dorpshuis de Wijk
X-ORIGINAL-URL:https://dorpshuisdewijk.nl
X-WR-CALDESC:Evenementen voor Dorpshuis de Wijk
REFRESH-INTERVAL;VALUE=DURATION:PT1H
X-Robots-Tag:noindex
X-PUBLISHED-TTL:PT1H
BEGIN:VTIMEZONE
TZID:Europe/Amsterdam
BEGIN:DAYLIGHT
TZOFFSETFROM:+0100
TZOFFSETTO:+0200
TZNAME:CEST
DTSTART:20240331T010000
END:DAYLIGHT
BEGIN:STANDARD
TZOFFSETFROM:+0200
TZOFFSETTO:+0100
TZNAME:CET
DTSTART:20241027T010000
END:STANDARD
END:VTIMEZONE
BEGIN:VEVENT
DTSTART;TZID=Europe/Amsterdam:20241023T140000
DTEND;TZID=Europe/Amsterdam:20241023T170000
DTSTAMP:20260421T061202
CREATED:20240918T154006Z
LAST-MODIFIED:20240919T115440Z
UID:3544-1729692000-1729702800@dorpshuisdewijk.nl
SUMMARY:Danspaleis
DESCRIPTION:De missie van Het Danspaleis is om alle ouderen in Nederland vitaal en inclusief te houden met dansen en muziek. Met dit ‘tankstation van levensvreugde’ wordt eenzaamheid aangepakt.\nVerschillende formules worden ingezet in samenwerking met zorg en welzijnspartijen of organisaties die met ouderen werken. \nVanuit de visie dat muziek een magisch middel is om mensen bij elkaar te brengen en ouderen in beweging te zetten\, is de Danspaleisformule met meerdere aanvullende onderdelen ontwikkeld. Een dansfeest voor ouderen waar jong en oud elkaar ontmoeten. Dansen breekt dwars door generaties\, culturele achtergronden\, rangen en standen\, en seksuele en politieke voorkeuren. Muziek heeft de kracht om verhalen van toen op te roepen en biedt houvast voor ouderen in het nu. \nDE ENTREE IS GRATIS én één drankje van het huis. \nAanmelden bij Welzijn de Wolden: bel 0528-378686 of mail naar info@welzijndewolden.nl
URL:https://dorpshuisdewijk.nl/event/danspaleis/
LOCATION:Grote zaal
ATTACH;FMTTYPE=image/jpeg:https://dorpshuisdewijk.nl/wp-content/uploads/2024/09/23102024_DP_poster_EP_315x315-1.jpg
ORGANIZER;CN="Het Danspaleis":MAILTO:info@welzijndewolden.nl
END:VEVENT
END:VCALENDAR