BEGIN:VCALENDAR
VERSION:2.0
PRODID:-//Dorpshuis de Wijk - ECPv6.2.9//NONSGML v1.0//EN
CALSCALE:GREGORIAN
METHOD:PUBLISH
X-ORIGINAL-URL:https://dorpshuisdewijk.nl
X-WR-CALDESC:Evenementen voor Dorpshuis de Wijk
REFRESH-INTERVAL;VALUE=DURATION:PT1H
X-Robots-Tag:noindex
X-PUBLISHED-TTL:PT1H
BEGIN:VTIMEZONE
TZID:Europe/Amsterdam
BEGIN:DAYLIGHT
TZOFFSETFROM:+0100
TZOFFSETTO:+0200
TZNAME:CEST
DTSTART:20240331T010000
END:DAYLIGHT
BEGIN:STANDARD
TZOFFSETFROM:+0200
TZOFFSETTO:+0100
TZNAME:CET
DTSTART:20241027T010000
END:STANDARD
END:VTIMEZONE
BEGIN:VEVENT
DTSTART;TZID=Europe/Amsterdam:20241017T200000
DTEND;TZID=Europe/Amsterdam:20241017T200000
DTSTAMP:20260421T042527
CREATED:20240905T183322Z
LAST-MODIFIED:20240905T183812Z
UID:3497-1729195200-1729195200@dorpshuisdewijk.nl
SUMMARY:Culturele Avond van de Historische Vereniging de Wijk-Koekange met de Kakmadammen
DESCRIPTION:Culturele Avond van de Historische Vereniging de Wijk-Koekange\nDe Historische Vereniging de Wijk-Koekange organiseert op donderdag 17 oktober 2024 haar culturele avond. Dit keer zijn de Kakmadammen uitgenodigd.De Kakmadammen Janet en Lucina treden met name op in het noorden en oosten van het land. De beide dames vermaken het publiek graag met hilarische sketches en liedjes van vroeger en nu. Het duo maakt ook onderdeel uit van het cabaret gezelschap Twee Recht Twee Averecht uit Willemsoord dat al jaren voor volle zalen zorgt.\nWanneer: donderdag 17 oktober 2024.Waar: dorpshuis de Wijk.Aanvang: 20:00 uur.Kaartverkoop vanaf 1 oktober 2024 bij Supermarkt COOP in Koekange en bij het dorpshuis in de Wijk. Ook kan het op vrijdagmiddag tussen 14:00 uur en 16:00 uur in de Oudheidkamer onder de molen in de Wijk gekocht worden. Of op 17 oktober 2024 aan de zaal.Kosten € 10\,00.
URL:https://dorpshuisdewijk.nl/event/3497/
LOCATION:Grote zaal
ATTACH;FMTTYPE=image/jpeg:https://dorpshuisdewijk.nl/wp-content/uploads/2024/09/hist-ver-feest-oktober-2024.jpg
ORGANIZER;CN="Historische Vereniging de Wijk Koekange":MAILTO:johdekleine@gmail.com
END:VEVENT
END:VCALENDAR