BEGIN:VCALENDAR
VERSION:2.0
PRODID:-//Dorpshuis de Wijk - ECPv6.2.9//NONSGML v1.0//EN
CALSCALE:GREGORIAN
METHOD:PUBLISH
X-WR-CALNAME:Dorpshuis de Wijk
X-ORIGINAL-URL:https://dorpshuisdewijk.nl
X-WR-CALDESC:Evenementen voor Dorpshuis de Wijk
REFRESH-INTERVAL;VALUE=DURATION:PT1H
X-Robots-Tag:noindex
X-PUBLISHED-TTL:PT1H
BEGIN:VTIMEZONE
TZID:Europe/Amsterdam
BEGIN:DAYLIGHT
TZOFFSETFROM:+0100
TZOFFSETTO:+0200
TZNAME:CEST
DTSTART:20240331T010000
END:DAYLIGHT
BEGIN:STANDARD
TZOFFSETFROM:+0200
TZOFFSETTO:+0100
TZNAME:CET
DTSTART:20241027T010000
END:STANDARD
END:VTIMEZONE
BEGIN:VEVENT
DTSTART;TZID=Europe/Amsterdam:20241016T191500
DTEND;TZID=Europe/Amsterdam:20241016T191500
DTSTAMP:20260421T043040
CREATED:20241009T150007Z
LAST-MODIFIED:20241009T150219Z
UID:3592-1729106100-1729106100@dorpshuisdewijk.nl
SUMMARY:Vrouwen van Nu ontvangen medewerkers Wereldwinkel
DESCRIPTION:Op woensdag 16 oktober 2024 organiseert de afdeling van Vrouwen van Nu De Wijk een boeiende afdelingsavond in samenwerking met medewerkers van de Wereldwinkel Meppel. Zij zullen vertellen over hun winkel en werk\, en brengen diverse producten mee voor verkoop. \nLocatie: Dorpshuis De Wijk\, Dorpsstraat 78\, 7957 AW De Wijk\nTijd: Zaal open om 19.15 uur\, start programma om 19.45 uur\nEntree: Gratis\, bijdrage van € 8\,- voor 3 consumpties bij de ingang \nBent u geen lid? Ook dan bent u van harte welkom! Meld u bij de ingang. Aankopen van Wereldwinkel-producten kunnen alleen contant worden afgerekend\, of later in de winkel in Meppel. \nVorige afdelingsavond\nAfgelopen maand genoten we van een inspirerend verhaal van Mathilde Jongbloed over haar ontwikkeling tot textielkunstenaar. Samen hebben we ‘wild gebreid’. \nVolgende afdelingsavond\nOp woensdag 20 november ontvangen we Andries Middelbos van het Huus van de Taol. \nContact:\nE-mail: vrouwenvanu.dewijk@gmail.com\nTelefoon: 06-18801258\nKom langs en geniet van een gezellige en informatieve avond! \nMocht u een agenda hebben\, de eerstvolgende avonden zijn:\n20 November: Andries Middelbos\, Huus v.d. Taol\n18 December – Kerstavond: verzorgt het bestuur en is gewoon op woensdag!\n15 Januari 2025– jaarvergadering – huldiging Jubilarissen en Bingo
URL:https://dorpshuisdewijk.nl/event/vrouwen-van-nu-ontvangen-medewerkers-wereldwinkel/
LOCATION:Grote zaal
CATEGORIES:Evenement
ATTACH;FMTTYPE=image/jpeg:https://dorpshuisdewijk.nl/wp-content/uploads/2024/10/vrouwenvannu.jpg
ORGANIZER;CN="Vrouwen van nu":MAILTO:vrouwenvanu.dewijk@gmail.com
END:VEVENT
END:VCALENDAR