BEGIN:VCALENDAR
VERSION:2.0
PRODID:-//Dorpshuis de Wijk - ECPv6.2.9//NONSGML v1.0//EN
CALSCALE:GREGORIAN
METHOD:PUBLISH
X-WR-CALNAME:Dorpshuis de Wijk
X-ORIGINAL-URL:https://dorpshuisdewijk.nl
X-WR-CALDESC:Evenementen voor Dorpshuis de Wijk
REFRESH-INTERVAL;VALUE=DURATION:PT1H
X-Robots-Tag:noindex
X-PUBLISHED-TTL:PT1H
BEGIN:VTIMEZONE
TZID:Europe/Amsterdam
BEGIN:DAYLIGHT
TZOFFSETFROM:+0100
TZOFFSETTO:+0200
TZNAME:CEST
DTSTART:20240331T010000
END:DAYLIGHT
BEGIN:STANDARD
TZOFFSETFROM:+0200
TZOFFSETTO:+0100
TZNAME:CET
DTSTART:20241027T010000
END:STANDARD
END:VTIMEZONE
BEGIN:VEVENT
DTSTART;TZID=Europe/Amsterdam:20241015T193000
DTEND;TZID=Europe/Amsterdam:20241015T193000
DTSTAMP:20260421T042503
CREATED:20240919T125617Z
LAST-MODIFIED:20240919T125617Z
UID:3563-1729020600-1729020600@dorpshuisdewijk.nl
SUMMARY:Modeshow JENN just for woman
DESCRIPTION:
URL:https://dorpshuisdewijk.nl/event/modeshow-jenn-just-for-woman/
LOCATION:Grote zaal
ATTACH;FMTTYPE=image/jpeg:https://dorpshuisdewijk.nl/wp-content/uploads/2024/09/PHOTO-2024-09-16-11-18-14.jpg
ORGANIZER;CN="Dorpshuis de Wijk de Havezate":MAILTO:info@dorpshuisdewijk.nl
END:VEVENT
END:VCALENDAR