BEGIN:VCALENDAR
VERSION:2.0
PRODID:-//Dorpshuis de Wijk - ECPv6.2.9//NONSGML v1.0//EN
CALSCALE:GREGORIAN
METHOD:PUBLISH
X-WR-CALNAME:Dorpshuis de Wijk
X-ORIGINAL-URL:https://dorpshuisdewijk.nl
X-WR-CALDESC:Evenementen voor Dorpshuis de Wijk
REFRESH-INTERVAL;VALUE=DURATION:PT1H
X-Robots-Tag:noindex
X-PUBLISHED-TTL:PT1H
BEGIN:VTIMEZONE
TZID:Europe/Amsterdam
BEGIN:DAYLIGHT
TZOFFSETFROM:+0100
TZOFFSETTO:+0200
TZNAME:CEST
DTSTART:20240331T010000
END:DAYLIGHT
BEGIN:STANDARD
TZOFFSETFROM:+0200
TZOFFSETTO:+0100
TZNAME:CET
DTSTART:20241027T010000
END:STANDARD
END:VTIMEZONE
BEGIN:VEVENT
DTSTART;TZID=Europe/Amsterdam:20240509T070000
DTEND;TZID=Europe/Amsterdam:20240509T070000
DTSTAMP:20260421T133246
CREATED:20240429T074209Z
LAST-MODIFIED:20240429T074209Z
UID:3379-1715238000-1715238000@dorpshuisdewijk.nl
SUMMARY:Dauwtrappen Hemelvaartsdag
DESCRIPTION:Dauwtrappen 9 mei vanaf Dorpshuis De Wijk! \n\n\n Start: 7.00-7.30 bij het dorpshuis\n Wandeling: ongeveer 10 km met na afloop ontbijt in het Dorpshuis\n Opgeven voor 6 mei via info@dorpshuisdewijk.nl of 0522-444200\n Kosten: €12\,50 p/p\n\n\nwww.dorpshuisdewijk.nl
URL:https://dorpshuisdewijk.nl/event/dauwtrappen-hemelvaartsdag/
LOCATION:Ontmoetingsruimte
ATTACH;FMTTYPE=image/jpeg:https://dorpshuisdewijk.nl/wp-content/uploads/2024/04/Dauwtrappen-2024.jpg
ORGANIZER;CN="Dorpshuis de Wijk de Havezate":MAILTO:info@dorpshuisdewijk.nl
END:VEVENT
END:VCALENDAR